BEGIN:VCALENDAR
VERSION:2.0
PRODID:-//Squarespace Inc/Squarespace 6//v6//EN
BEGIN:VEVENT
UID:5b7fae06f950b78f7d0e1bd5@squarespace.com
DTSTAMP:20180828T055614Z
DTSTART:20180831T073000Z
DTEND:20180905T083000Z
SUMMARY:BIG SKY COUNTRY
GEO:-36.197303;147.905391
LOCATION:Davies Cottage\, Jardine Street\, Corryong\, VIC\, 3707\, Australi
 a
END:VEVENT
END:VCALENDAR
