BEGIN:VCALENDAR
VERSION:2.0
PRODID:-//Squarespace Inc/Squarespace 6//v6//EN
BEGIN:VEVENT
UID:5b84e0d52b6a28ec8051ca03@squarespace.com
DTSTAMP:20190207T052652Z
DTSTART:20181102T220000Z
DTEND:20181103T050000Z
SUMMARY:Three Bridges Market - Tooma
GEO:-35.975437;148.084335
LOCATION:tooma pub\, tooma\, australia
END:VEVENT
END:VCALENDAR
